{"text_format":"1","workbook":"xlsx","n_sheets":1,"sheets":["Wertung RSB Kreis-Bezirk-Land"],"not_rendered":{"charts":0,"images":1,"macros":0,"external_links":0,"defined_names":0,"comments":1,"pivot_tables":0},"unopened":[],"bounds":{"document_bytes":16777216,"sheet_cells":100000,"rows_first":2000,"rows_last":500,"rows_between":2000,"halvings":0,"cell_chars":16384,"cell_head_chars":4096},"cells_cut":0,"cells_raw":0,"read":"whole","date_system":"1900"}

{"sheet":"Wertung RSB Kreis-Bezirk-Land","index":0,"n_rows":42,"n_cols":25,"rows_kept":42,"cut":false,"hidden":false,"merged":[[31,1,31,9],[1,3,1,16],[31,15,31,23],[7,13,7,23],[3,17,3,22],[1,23,1,24],[2,17,2,22],[18,3,18,8],[9,9,9,10],[24,21,24,24],[4,1,4,2],[9,22,9,23],[7,1,7,10],[21,2,21,8],[23,15,23,16],[19,16,19,22],[9,7,9,8],[22,15,22,16],[18,16,18,21],[23,4,23,9],[20,2,20,8],[9,4,9,5],[19,2,19,8],[21,16,21,22],[20,16,20,22],[18,11,18,13],[9,20,9,21],[22,4,22,9],[9,17,9,18],[4,14,4,15],[4,4,4,11],[1,17,1,22],[4,16,4,17],[2,3,2,16]]}
[]
[null,null,null,"Ligawettkämpfe des Rheinischen Schützenbundes",null,null,null,null,null,null,null,null,null,null,null,null,null,"_____________liga Gruppe :"]
[null,null,null,"Kreis- / Bezirk- / Landes-/ Landesoberliga"]
[]
[null,null,null,"Disziplin :",null,null,null,null,null,null,null,null,null,null,"Datum :"]
[]
[]
[]
[null,null,null,"Gastgeber / Ausrichter",null,null,null,null,null,null,null,null,null,null,null,null,"Gast"]
[null,null,null,null,"Serien=",null,30,"Schuss",null,null,null,null,null,null,null,null,null,"Serien=",null,{"$f":"G10","v":30},"Schuss"]
["Lfd. Nr.","Scheib Nr.","*","Vor u. Nachname",{"$f":"IF($G$10=10,\"X\",IF($G$10=20,\"X\",IF($G$10=30,\"X\",IF($G$10=40,\"X\",IF($G$10=50,\"X\",IF($G$10=60,\"1\"))))))","v":"X"},{"$f":"IF($G$10=10,\"X\",IF($G$10=20,\"X\",IF($G$10=30,\"X\",IF($G$10=40,\"X\",IF($G$10=50,\"1\",IF($G$10=60,\"2\"))))))","v":"X"},{"$f":"IF($G$10=10,\"X\",IF($G$10=20,\"X\",IF($G$10=30,\"X\",IF($G$10=40,\"1\",IF($G$10=50,\"2\",IF($G$10=60,\"3\"))))))","v":"X"},{"$f":"IF($G$10=10,\"X\",IF($G$10=20,\"X\",IF($G$10=30,\"1\",IF($G$10=40,\"2\",IF($G$10=50,\"3\",IF($G$10=60,\"4\"))))))","v":"1"},{"$f":"IF($G$10=10,\"X\",IF($G$10=20,\"1\",IF($G$10=30,\"2\",IF($G$10=40,\"3\",IF($G$10=50,\"4\",IF($G$10=60,\"5\"))))))","v":"2"},{"$f":"IF($G$10=10,\"1\",IF($G$10=20,\"2\",IF($G$10=30,\"3\",IF($G$10=40,\"4\",IF($G$10=50,\"5\",IF($G$10=60,\"6\"))))))","v":"3"},"Ringe","Platz",null,"Lfd. Nr.","Scheib Nr.","*","Vor u. Nachname",{"$f":"E11","v":"X"},{"$f":"F11","v":"X"},{"$f":"G11","v":"X"},{"$f":"H11","v":"1"},{"$f":"I11","v":"2"},{"$f":"J11","v":"3"},"Ringe","Platz"]
[1,null,null,null,{"$f":"IF(E11=\"X\",\"X\",\"\")","v":"X"},"X","X",null,null,null,{"$f":"IF(J12=\"\",\"\",SUM(E12:J12))","v":""},{"$f":"IF(K12=\"\",\"\",J37)","v":""},null,1,null,null,null,{"$f":"IF(R11=\"X\",\"X\",\"\")","v":"X"},"X","X","",null,null,{"$f":"IF(W12=\"\",\"\",SUM(R12:W12))","v":""},{"$f":"IF(X12=\"\",\"\",W37)","v":""}]
[2,null,null,null,"X","X","X",null,null,null,"",{"$f":"IF(K13=\"\",\"\",J38)","v":""},null,2,null,null,null,"X","X","X","",null,null,"",{"$f":"IF(X13=\"\",\"\",W38)","v":""}]
[3,null,null,null,"X","X","X",null,null,null,"",{"$f":"IF(K14=\"\",\"\",J39)","v":""},null,3,null,null,null,"X","X","X","",null,null,"",{"$f":"IF(X14=\"\",\"\",W39)","v":""}]
[4,null,null,null,"X","X","X",{"$f":"IF(H14=\"X\",\"X\",\"\")","v":""},null,null,"",{"$f":"IF(K15=\"\",\"\",J40)","v":""},null,4,null,null,null,"X","X","X","",null,null,"",{"$f":"IF(X15=\"\",\"\",W40)","v":""}]
[5,null,null,null,"X","X","X",{"$f":"IF(H15=\"X\",\"X\",\"\")","v":""},null,null,"",{"$f":"IF(K16=\"\",\"\",J41)","v":""},null,5,null,null,null,"X","X","X","",null,null,"",{"$f":"IF(X16=\"\",\"\",W41)","v":""}]
[null,"*  S=Stammschütze      E=Ersatzschütze  "]
[null,null,null,null,null,null,null,null,null,null,null,"Auswertung"]
[null,"Platz",null,"Schützen in Wertung",null,null,null,null,null,null,"Ringe","Punkte",null,null,"Ringe",null,"Schützen in Wertung",null,null,null,null,null,null,"Platz"]
[null,1,{"$f":"IF($L$15=$B20,$D$15,IF($L$12=$B20,$D$12,IF($L$13=$B20,$D$13,IF($L$14=$B20,$D$14,IF($L$16=$B20,$D$16,\"\")))))","v":""},null,null,null,null,null,null,null,{"$f":"IF($L$15=$B20,$K$15,IF($L$12=$B20,$K$12,IF($L$13=$B20,$K$13,IF($L$14=$B20,$K$14,IF($L$16=$B20,$K$16,\"\")))))","v":""},{"$f":"IF(K20=\"\",\"\",IF(K20>O20,2,IF(K20=O20,1,0)))","v":""},null,{"$f":"IF(O20=\"\",\"\",IF(O20>K20,2,IF(O20=K20,1,0)))","v":""},{"$f":"IF($Y$15=$X20,$X$15,IF($Y$12=$X20,$X$12,IF($Y$13=$X20,$X$13,IF($Y$14=$X20,$X$14,IF($Y$16=$X20,$X$16,\"\")))))","v":""},null,{"$f":"IF($Y$15=$X20,$Q$15,IF($Y$12=$X20,$Q$12,IF($Y$13=$X20,$Q$13,IF($Y$14=$X20,$Q$14,IF($Y$16=$X20,$Q$16,\"\")))))","v":""},null,null,null,null,null,null,1]
[null,2,{"$f":"IF($L$15=$B21,$D$15,IF($L$12=$B21,$D$12,IF($L$13=$B21,$D$13,IF($L$14=$B21,$D$14,IF($L$16=$B21,$D$16,\"\")))))","v":""},null,null,null,null,null,null,null,{"$f":"IF($L$15=$B21,$K$15,IF($L$12=$B21,$K$12,IF($L$13=$B21,$K$13,IF($L$14=$B21,$K$14,IF($L$16=$B21,$K$16,\"\")))))","v":""},{"$f":"IF(K21=\"\",\"\",IF(K21>O21,2,IF(K21=O21,1,0)))","v":""},null,{"$f":"IF(O21=\"\",\"\",IF(O21>K21,2,IF(O21=K21,1,0)))","v":""},{"$f":"IF($Y$15=$X21,$X$15,IF($Y$12=$X21,$X$12,IF($Y$13=$X21,$X$13,IF($Y$14=$X21,$X$14,IF($Y$16=$X21,$X$16,\"\")))))","v":""},null,{"$f":"IF($Y$15=$X21,$Q$15,IF($Y$12=$X21,$Q$12,IF($Y$13=$X21,$Q$13,IF($Y$14=$X21,$Q$14,IF($Y$16=$X21,$Q$16,\"\")))))","v":""},null,null,null,null,null,null,2]
[null,3,{"$f":"IF($L$15=$B22,$D$15,IF($L$12=$B22,$D$12,IF($L$13=$B22,$D$13,IF($L$14=$B22,$D$14,IF($L$16=$B22,$D$16,\"\")))))","v":""},null,null,null,null,null,null,null,{"$f":"IF($L$15=$B22,$K$15,IF($L$12=$B22,$K$12,IF($L$13=$B22,$K$13,IF($L$14=$B22,$K$14,IF($L$16=$B22,$K$16,\"\")))))","v":""},{"$f":"IF(K22=\"\",\"\",IF(K22>O22,2,IF(K22=O22,1,0)))","v":""},null,{"$f":"IF(O22=\"\",\"\",IF(O22>K22,2,IF(O22=K22,1,0)))","v":""},{"$f":"IF($Y$15=$X22,$X$15,IF($Y$12=$X22,$X$12,IF($Y$13=$X22,$X$13,IF($Y$14=$X22,$X$14,IF($Y$16=$X22,$X$16,\"\")))))","v":""},null,{"$f":"IF($Y$15=$X22,$Q$15,IF($Y$12=$X22,$Q$12,IF($Y$13=$X22,$Q$13,IF($Y$14=$X22,$Q$14,IF($Y$16=$X22,$Q$16,\"\")))))","v":""},null,null,null,null,null,null,3]
[null,null,null,null,null,null,null,null,null,null,{"$f":"IF(K20=\"\",\"\",SUM(K20:K22))","v":""},{"$f":"IF(K20=\"\",\"\",SUM(L20:L22))","v":""},null,{"$f":"IF(O20=\"\",\"\",SUM(N20:N22))","v":""},{"$f":"IF(O20=\"\",\"\",SUM(O20:O22))","v":""},"Einzelpunkte"]
[null,null,null,null,null,null,null,null,null,null,null,{"$f":"IF(L23=\"\",\"\",IF(L23>N23,2,IF(L23=N23,1,0)))","v":""},":",{"$f":"IF(N23=\"\",\"\",IF(N23>L23,2,IF(N23=L23,1,0)))","v":""},null,"Mannschaftspunkte"]
["Der Wettkampf wurde unter Berücksichtigung der gültigen Liga-Ordnung (LO) des Rheinischen Schützenbundes und der Sportordnung des Deutschen Schützenbundes durchgeführt.",null,null,null,null,null,null,null,null,null,null,null,null,null,null,null,null,null,null,null,null,"©Kasokat 09 V3.7"]
["Einsprüche sind auf der Rückseite schriftlich niederzulegen und zur Klärung durch das Schiedsgericht dem zuständigen Liga-Referenten unter Beifügung der Einspruchsgebühr zuzuleiten (9.5 LO)."]
["Später erhobene Einsprüche werden nicht anerkannt."]
[]
[]
[]
[]
[null,"Unterschrift Mannschaftsführer Gastgeber / Ausrichter",null,null,null,null,null,null,null,null,null,null,null,null,null,"Unterschrift Mannschaftsführer Gast"]
["Bemerkungen:",null,null,"( z.B.  Beim Einsatz von Ersatzschützen den/die Stammschützen benennen)."]
[]
[]
[]
[null,null,null,null,{"$f":"IF(K12=\"\",0,RANK(K12,$K$12:$K$16))","v":0},{"$f":"IF(J12=\"\",0,RANK(J12,$J$12:$J$16))","v":0},{"$f":"IF(I12=\"\",0,RANK(I12,$I$12:$I$16))","v":0},{"$f":"IF(E37=0,1000,(E37*100)+(F37*10)+G37)","v":1000},null,{"$f":"RANK(H37,$H$37:$H$41,1)","v":1},null,null,null,null,null,null,null,{"$f":"IF(X12=\"\",0,RANK(X12,$X$12:$X$16))","v":0},{"$f":"IF(W12=\"\",0,RANK(W12,$W$12:$W$16))","v":0},{"$f":"IF(V12=\"\",0,RANK(V12,$V$12:$V$16))","v":0},{"$f":"IF(R37=0,1000,(R37*100)+(S37*10)+T37)","v":1000},null,{"$f":"RANK(U37,$U$37:$U$41,1)","v":1}]
[null,null,null,null,{"$f":"IF(K13=\"\",0,RANK(K13,$K$12:$K$16))","v":0},{"$f":"IF(J13=\"\",0,RANK(J13,$J$12:$J$16))","v":0},{"$f":"IF(I13=\"\",0,RANK(I13,$I$12:$I$16))","v":0},{"$f":"IF(E38=0,1000,(E38*100)+(F38*10)+(G38+0.001))","v":1000},null,{"$f":"RANK(H38,$H$37:$H$41,1)","v":1},null,null,null,null,null,null,null,{"$f":"IF(X13=\"\",0,RANK(X13,$X$12:$X$16))","v":0},{"$f":"IF(W13=\"\",0,RANK(W13,$W$12:$W$16))","v":0},{"$f":"IF(V13=\"\",0,RANK(V13,$V$12:$V$16))","v":0},{"$f":"IF(R38=0,1000,(R38*100)+(S38*10)+(T38+0.001))","v":1000},null,{"$f":"RANK(U38,$U$37:$U$41,1)","v":1}]
[null,null,null,null,{"$f":"IF(K14=\"\",0,RANK(K14,$K$12:$K$16))","v":0},{"$f":"IF(J14=\"\",0,RANK(J14,$J$12:$J$16))","v":0},{"$f":"IF(I14=\"\",0,RANK(I14,$I$12:$I$16))","v":0},{"$f":"IF(E39=0,1000,(E39*100)+(F39*10)+(G39+0.002))","v":1000},null,{"$f":"RANK(H39,$H$37:$H$41,1)","v":1},null,null,null,null,null,null,null,{"$f":"IF(X14=\"\",0,RANK(X14,$X$12:$X$16))","v":0},{"$f":"IF(W14=\"\",0,RANK(W14,$W$12:$W$16))","v":0},{"$f":"IF(V14=\"\",0,RANK(V14,$V$12:$V$16))","v":0},{"$f":"IF(R39=0,1000,(R39*100)+(S39*10)+(T39+0.002))","v":1000},null,{"$f":"RANK(U39,$U$37:$U$41,1)","v":1}]
[null,null,null,null,{"$f":"IF(K15=\"\",0,RANK(K15,$K$12:$K$16))","v":0},{"$f":"IF(J15=\"\",0,RANK(J15,$J$12:$J$16))","v":0},{"$f":"IF(I15=\"\",0,RANK(I15,$I$12:$I$16))","v":0},{"$f":"IF(E40=0,1000,(E40*100)+(F40*10)+(G40+0.003))","v":1000},null,{"$f":"RANK(H40,$H$37:$H$41,1)","v":1},null,null,null,null,null,null,null,{"$f":"IF(X15=\"\",0,RANK(X15,$X$12:$X$16))","v":0},{"$f":"IF(W15=\"\",0,RANK(W15,$W$12:$W$16))","v":0},{"$f":"IF(V15=\"\",0,RANK(V15,$V$12:$V$16))","v":0},{"$f":"IF(R40=0,1000,(R40*100)+(S40*10)+(T40+0.003))","v":1000},null,{"$f":"RANK(U40,$U$37:$U$41,1)","v":1}]
[null,null,null,null,{"$f":"IF(K16=\"\",0,RANK(K16,$K$12:$K$16))","v":0},{"$f":"IF(J16=\"\",0,RANK(J16,$J$12:$J$16))","v":0},{"$f":"IF(I16=\"\",0,RANK(I16,$I$12:$I$16))","v":0},{"$f":"IF(E41=0,1000,(E41*100)+(F41*10)+(G41+0.004))","v":1000},null,{"$f":"RANK(H41,$H$37:$H$41,1)","v":1},null,null,null,null,null,null,null,{"$f":"IF(X16=\"\",0,RANK(X16,$X$12:$X$16))","v":0},{"$f":"IF(W16=\"\",0,RANK(W16,$W$12:$W$16))","v":0},{"$f":"IF(V16=\"\",0,RANK(V16,$V$12:$V$16))","v":0},{"$f":"IF(R41=0,1000,(R41*100)+(S41*10)+(T41+0.004))","v":1000},null,{"$f":"RANK(U41,$U$37:$U$41,1)","v":1}]
[null,null,null,null,{"$f":"IF(#REF!=\"\",0,RANK(#REF!,$K$12:$K$16))","v":{"$error":"#REF!"}},{"$f":"IF(#REF!=\"\",0,RANK(#REF!,$J$12:$J$16))","v":{"$error":"#REF!"}},{"$f":"IF(#REF!=\"\",0,RANK(#REF!,$I$12:$I$16))","v":{"$error":"#REF!"}},{"$f":"IF(E42=0,1000,(E42*100)+(F42*10)+(G42+0.005))","v":{"$error":"#REF!"}},null,{"$f":"RANK(H42,$H$37:$H$42,1)","v":{"$error":"#REF!"}},null,null,null,null,null,null,null,{"$f":"IF(#REF!=\"\",0,RANK(#REF!,$X$12:$X$16))","v":{"$error":"#REF!"}},{"$f":"IF(#REF!=\"\",0,RANK(#REF!,$W$12:$W$16))","v":{"$error":"#REF!"}},{"$f":"IF(#REF!=\"\",0,RANK(#REF!,$V$12:$V$16))","v":{"$error":"#REF!"}},{"$f":"IF(R42=0,1000,(R42*100)+(S42*10)+(T42+0.005))","v":{"$error":"#REF!"}},null,{"$f":"RANK(U42,$U$37:$U$42,1)","v":{"$error":"#REF!"}}]